Workbook

Sheet 报价汇总
A1: 汇总表
A2: 项目名称：翠湖香山国际花园地块二海棠苑6栋101房空调新风除湿设备采购安装工程
A3: 序号 | B3: 项目名称 | C3: 数量 | D3: 单位 | E3: 税率% | F3: 不含税金额（元） | G3: 含税金额（元） | H3: 备注
A4: 1 | B4: 空调新风除湿设备 | C4: 1 | D4: 项 | F4: =设备报价!F30 -> 0 | G4: =设备报价!F32 -> #VALUE!
A5: 2 | B5: 安装工程 | C5: 1 | D5: 项 | F5: =安装及材料报价!I103 -> 0 | G5: =安装及材料报价!I105 -> #VALUE!
A6: 合计 | F6: =SUM(F4:F5) -> 0 | G6: =SUM(G4:G5) -> #VALUE!

Sheet 设备报价
A1: 设备清单
A2: =报价汇总!A2 -> 项目名称：翠湖香山国际花园地块二海棠苑6栋101房空调新风除湿设备采购安装工程
A3: 设备形式 | B3: 型号 | C3: 单位 | D3: 数量 | E3: 单价 | F3: 金额 | G3: 备注
A4: 一、空调设备
A5: 中静压风管机 | B5: FQSP100CAN | C5: 台 | D5: 2 | F5: =D5*E5 -> 0 | G5: BRC1H611(有线)
A6: 中静压风管机 | B6: FQSP71CAN | C6: 台 | D6: 1 | F6: =D6*E6 -> 0 | G6: BRC1H611(有线)
A7: 中静压风管机 | B7: FQSP36CAN | C7: 台 | D7: 2 | F7: =D7*E7 -> 0 | G7: BRC1H611(有线)
A8: 中静压风管机 | B8: FQSP28CAN | C8: 台 | D8: 1 | F8: =D8*E8 -> 0 | G8: BRC1H611(有线)
A9: 中静压风管机 | B9: FQSP22CAN | C9: 台 | D9: 2 | F9: =D9*E9 -> 0 | G9: BRC1H611(有线)
A10: 超薄小巧风管机 | B10: FQDP71BVC | C10: 台 | D10: 1 | F10: =D10*E10 -> 0 | G10: BRC1H611(有线)
A11: 超薄小巧风管机 | B11: FQDP63BVC | C11: 台 | D11: 2 | F11: =D11*E11 -> 0 | G11: BRC1H611(有线)
A12: 超薄小巧风管机 | B12: FQDP25BVC | C12: 台 | D12: 1 | F12: =D12*E12 -> 0 | G12: BRC1H611(有线)
A13: 温湿平衡超薄风管机 | B13: FQRP63AAPN | C13: 台 | D13: 1 | F13: =D13*E13 -> 0 | G13: BRC1H611(有线)
A14: 温湿平衡超薄风管机 | B14: FQRP56AAPN | C14: 台 | D14: 1 | F14: =D14*E14 -> 0 | G14: BRC1H611(有线)
A15: 温湿平衡超薄风管机 | B15: FQRP40AAPN | C15: 台 | D15: 2 | F15: =D15*E15 -> 0 | G15: BRC1H611(有线)
A16: 温湿平衡超薄风管机 | B16: FQRP36AAPN | C16: 台 | D16: 1 | F16: =D16*E16 -> 0 | G16: BRC1H611(有线)
... A19: 衣帽间防潮嵌入式 | B19: FJECP22CA | C19: 台 | D19: 3 | F19: =D19*E19 -> 0 | G19: BRC1H611(有线)
A20: 无线遥控 | B20: BRC4H611 | C20: 个 | D20: 17 | F20: =D20*E20 -> 0
A21: 金制VRV-N室外机 | B21: RQCZQ16ABYN | C21: 台 | D21: 2 | F21: =D21*E21 -> 0 | G21: 16匹，配一个传感器
A22: 空调小计 | F22: =SUM(F5:F21) -> 0
A23: 二、新风设备
A24: 全热交换器 | B24: VAM250GMVE | C24: 台 | D24: 1 | F24: =D24*E24 -> 0
A25: 全热交换器 | B25: VAM500GMVE | C25: 台 | D25: 2 | F25: =D25*E25 -> 0
A26: 新风小计 | F26: =SUM(F24:F25) -> 0
A27: 三、除湿设备
A28: 除湿设备 | B28: （型号） | C28: 台 | D28: 2 | F28: =D28*E28 -> 0 | G28: 型号由贵司填写
A29: 除湿小计 | F29: =SUM(F27:F28) -> 0
A30: 合计 | F30: =F22+F26+F29 -> 0
A31: 税金 | B31: 增值税专用发票 | C31: 元 | D31: % | E31: =F30 -> 0 | F31: =D31*E31 -> #VALUE! | G31: 税率由贵司填写
A32: 含税总金额（元） | F32: =SUM(F30:F31) -> #VALUE!
A33: 注：所有空调必须配备适配智能化控制的中央远程控制器

Sheet 安装及材料报价
A1: 安装清单
A2: =报价汇总!A2 -> 项目名称：翠湖香山国际花园地块二海棠苑6栋101房空调新风除湿设备采购安装工程
A3: 序号 | B3: 型号名称 | C3: 规格 | D3: 厚度 | E3: 单位 | F3: 数量 | G3: 材料单价 | H3: 人工单价 | I3: 金额 | J3: 品牌
A4: 空调设备
A5: 一 | B5: 铜管安装工程
A6: 1 | B6: 铜管 | C6: Φ28.6 | D6: 1.0mm | E6: m | F6: 54 | I6: =(H6+G6)*F6 -> 0 | J6: 大金专供
A7: 2 | B7: 铜管 | C7: Φ22.2 | D7: 1.0mm | E7: m | F7: 11 | I7: =(H7+G7)*F7 -> 0 | J7: 大金专供
A8: 3 | B8: 铜管 | C8: Φ19.05 | D8: 1.0mm | E8: m | F8: 4 | I8: =(H8+G8)*F8 -> 0 | J8: 大金专供
A9: 4 | B9: 铜管 | C9: Φ15.88 | D9: 1.0mm | E9: m | F9: 154 | I9: =(H9+G9)*F9 -> 0 | J9: 大金专供
A10: 5 | B10: 铜管 | C10: Φ12.7 | D10: 0.8mm | E10: m | F10: 145 | I10: =(H10+G10)*F10 -> 0 | J10: 大金专供
A11: 6 | B11: 铜管 | C11: Φ9.52 | D11: 0.8mm | E11: m | F11: 157 | I11: =(H11+G11)*F11 -> 0 | J11: 大金专供
A12: 7 | B12: 铜管 | C12: Φ6.4 | D12: 0.8mm | E12: m | F12: 68 | I12: =(H12+G12)*F12 -> 0 | J12: 大金专供
A13: 8 | B13: 铜管配件 | E13: Kg | F13: 6 | I13: =(H13+G13)*F13 -> 0
A14: 9 | B14: 银磷焊条 | E14: 根 | F14: 200 | I14: =(H14+G14)*F14 -> 0 | J14: HARRIS
A15: 10 | B15: 分歧管KHRP26MC72T | E15: 套 | F15: 5 | I15: =(H15+G15)*F15 -> 0 | J15: 大金专供
A16: 11 | B16: 分歧管KHRP26MC33T | E16: 套 | F16: 4 | I16: =(H16+G16)*F16 -> 0 | J16: 大金专供
A17: 12 | B17: 分歧管KHRP26MC22T | E17: 套 | F17: 17 | I17: =(H17+G17)*F17 -> 0 | J17: 大金专供
A18: 13 | B18: 铜管保温 | C18: Φ28.6 | D18: 19mm | E18: m | F18: =F6 -> 54 | I18: =(H18+G18)*F18 -> 0 | J18: 大金专供
A19: 14 | B19: 铜管保温 | C19: Φ22.2 | D19: 19mm | E19: m | F19: =F7 -> 11 | I19: =(H19+G19)*F19 -> 0 | J19: 大金专供
A20: 15 | B20: 铜管保温 | C20: Φ19.05 | D20: 13mm | E20: m | F20: =F8 -> 4 | I20: =(H20+G20)*F20 -> 0 | J20: 大金专供
A21: 16 | B21: 铜管保温 | C21: Φ15.88 | D21: 13mm | E21: m | F21: =F9 -> 154 | I21: =(H21+G21)*F21 -> 0 | J21: 大金专供
A22: 17 | B22: 铜管保温 | C22: Φ12.7 | D22: 13mm | E22: m | F22: =F10 -> 145 | I22: =(H22+G22)*F22 -> 0 | J22: 大金专供
A23: 18 | B23: 铜管保温 | C23: Φ9.52 | D23: 13mm | E23: m | F23: =F11 -> 157 | I23: =(H23+G23)*F23 -> 0 | J23: 大金专供
A24: 19 | B24: 铜管保温 | C24: Φ6.4 | D24: 13mm | E24: m | F24: =F12 -> 68 | I24: =(H24+G24)*F24 -> 0 | J24: 大金专供
A25: 二 | B25: 排水安装工程
A26: 1 | B26: PVC排水管 | C26: Φ25 | E26: m | F26: 200 | I26: =(H26+G26)*F26 -> 0 | J26: 大金专供
A27: 2 | B27: PVC配件 | E27: 项 | F27: 1 | I27: =(H27+G27)*F27 -> 0 | J27: 大金专供
A28: 3 | B28: 排水管保温 | C28: Φ25 | D28: 9mm | E28: m | F28: =F26 -> 200 | I28: =(H28+G28)*F28 -> 0 | J28: 大金专供
A29: 三 | B29: 风管制安工程
A30: 1 | B30: 镀锌风管(插条) | D30: 0.6mm | E30: m² | F30: 60 | I30: =(H30+G30)*F30 -> 0 | J30: 或双面铝箔复合板
A31: 2 | B31: PEF保温材料 | D31: 15mm | E31: m² | F31: =F30 -> 60 | I31: =(H31+G31)*F31 -> 0
A32: 3 | B32: 铝箔保温软管 | C32: Φ150 | E32: m | F32: 10 | I32: =(H32+G32)*F32 -> 0
A33: 4 | B33: ABS百叶(送风) | C33: 200*850 | E33: 个 | F33: 2 | I33: =(H33+G33)*F33 -> 0 | J33: 金协
A34: 5 | B34: ABS百叶(送风) | C34: 200*1000 | E34: 个 | F34: 3 | I34: =(H34+G34)*F34 -> 0 | J34: 金协
A35: 6 | B35: ABS百叶(送风) | C35: 200*1200 | E35: 个 | F35: 1 | I35: =(H35+G35)*F35 -> 0 | J35: 金协
A36: 7 | B36: ABS百叶(送风) | C36: 200*1400 | E36: 个 | F36: 2 | I36: =(H36+G36)*F36 -> 0 | J36: 金协
A37: 8 | B37: ABS百叶(送风) | C37: 200*1600 | E37: 个 | F37: 2 | I37: =(H37+G37)*F37 -> 0 | J37: 金协
A38: 9 | B38: ABS百叶(送风) | C38: 200*1800 | E38: 个 | F38: 2 | I38: =(H38+G38)*F38 -> 0 | J38: 金协
A39: 10 | B39: ABS百叶(送风) | C39: 200*2650 | E39: 个 | F39: 1 | I39: =(H39+G39)*F39 -> 0 | J39: 金协
A40: 11 | B40: ABS百叶(送风) | C40: 200*3400 | E40: 个 | F40: 1 | I40: =(H40+G40)*F40 -> 0 | J40: 金协
...
